BEGIN:VCALENDAR
VERSION:2.0
PRODID:-//FACTS Academy
CALSCALE:GREGORIAN
METHOD:PUBLISH
X-WR-CALNAME:FACTS Academy
X-ORIGINAL-URL:https://factsacademy.com/k-event/student-life-twitter-2015/
X-WR-CALDESC:Student Life Twitter Q&#038;A 2015
BEGIN:VEVENT
DTSTART:
DTEND:
SUMMARY:Student Life Twitter Q&#038;A 2015
DESCRIPTION:
LOCATION:
END:VEVENT
END:VCALENDAR
